



BEGIN:VCALENDAR
VERSION:2.0
PRODID:-//eventon.com NONSGML v1.0//EN
CALSCALE:GREGORIAN
METHOD:PUBLISH
BEGIN:VEVENT
UID:69eb7b3451705
DTSTAMP:20260424T141620Z
DTSTART:20260117T170000Z
DTEND:20260117T180000Z
LOCATION:
SUMMARY:Super Saturday
DESCRIPTION:Registration\nhttps://ivari.ca/events/super-saturday/
URL:https://ivari.ca/events/super-saturday/
END:VEVENT
END:VCALENDAR