



BEGIN:VCALENDAR
VERSION:2.0
PRODID:-//eventon.com NONSGML v1.0//EN
CALSCALE:GREGORIAN
METHOD:PUBLISH
BEGIN:VEVENT
UID:69ea7e5f7a115
DTSTAMP:20260423T201735Z
DTSTART:20240621T010000Z
DTEND:20240621T020000Z
LOCATION:
SUMMARY:Fast Track products & added value
DESCRIPTION:prosperity\,  5-in-1\,  product features\,  highlight the value
  of Maple &amp; Everest\,  review Universal Life. Fourth Thursday of every 
 month 9:00 PM EST Meeting ID: 815 0134 9061 Passcode: ivari Registration\nh
 ttps://ivari.ca/events/fast-track-products-added-value-one-off/
URL:https://ivari.ca/events/fast-track-products-added-value-one-off/
END:VEVENT
END:VCALENDAR