



BEGIN:VCALENDAR
VERSION:2.0
PRODID:-//eventon.com NONSGML v1.0//EN
CALSCALE:GREGORIAN
METHOD:PUBLISH
BEGIN:VEVENT
UID:69e4f6455c30d
DTSTAMP:20260419T153533Z
DTSTART:20240808T220000Z
DTEND:20240808T230000Z
LOCATION:
SUMMARY:Fast Track products & added value
DESCRIPTION:prosperity\,  5-in-1\,  product features\,  highlight the value
  of Maple &amp; Everest\,  review Universal Life. Second Thursday of every 
 month 6:00 PM EST Meeting ID: 878 3537 9672 Passcode: ivari Registration\nh
 ttps://ivari.ca/events/fast-track-products-added-value/var/ri-4.l-L1
URL:https://ivari.ca/events/fast-track-products-added-value/var/ri-4.l-L1
END:VEVENT
END:VCALENDAR